BEGIN:VCALENDAR
VERSION:2.0
METHOD:PUBLISH
PRODID:-//ddaysoftware.com//NONSGML DDay.iCal 1.0//EN
BEGIN:VTIMEZONE
TZID:Central Standard Time
BEGIN:STANDARD
DTSTART;VALUE=DATE:18000101
RRULE:FREQ=YEARLY;BYDAY=SU;BYHOUR=2;BYMINUTE=0;BYMONTH=10;BYMONTHDAY=25,26,
 27,28,29,30,31
TZOFFSETFROM:-0500
TZOFFSETTO:-0600
END:STANDARD
BEGIN:DAYLIGHT
DTSTART;VALUE=DATE:18000101
RRULE:FREQ=YEARLY;BYDAY=SU;BYHOUR=2;BYMINUTE=0;BYMONTH=4;BYMONTHDAY=1,2,3,4
 ,5,6,7
TZOFFSETFROM:-0600
TZOFFSETTO:-0500
END:DAYLIGHT
BEGIN:STANDARD
DTSTART;VALUE=DATE:20070101
RRULE:FREQ=YEARLY;BYDAY=SU;BYHOUR=2;BYMINUTE=0;BYMONTH=11;BYMONTHDAY=1,2,3,
 4,5,6,7
TZOFFSETFROM:-0500
TZOFFSETTO:-0600
END:STANDARD
BEGIN:DAYLIGHT
DTSTART;VALUE=DATE:20070101
RRULE:FREQ=YEARLY;BYDAY=SU;BYHOUR=2;BYMINUTE=0;BYMONTH=3;BYMONTHDAY=8,9,10,
 11,12,13,14
TZOFFSETFROM:-0600
TZOFFSETTO:-0500
END:DAYLIGHT
END:VTIMEZONE
BEGIN:VEVENT
DESCRIPTION:
DTEND;TZID=Central Standard Time;VALUE=DATE:20260208
DTSTAMP:20260420T094718
DTSTART;TZID=Central Standard Time;VALUE=DATE:20260207
LOCATION:214 S 7th St\, Delavan\, WI 53115
SEQUENCE:0
SUMMARY:MPRT - TNC - Red's on 7th\, Delavan WI
UID:b4e1333a-dd79-41af-8a8e-2e72e874c056
URL:http://nado.biz/mprt-tnc-reds-on-7th-delavan-wi-2026-02-07
END:VEVENT
END:VCALENDAR
